BEGIN:VCALENDAR
VERSION:2.0
PRODID:-//No Limits - ECPv6.15.12.2//NONSGML v1.0//EN
CALSCALE:GREGORIAN
METHOD:PUBLISH
X-WR-CALNAME:No Limits
X-ORIGINAL-URL:https://nolimitsbynick.com
X-WR-CALDESC:Events for No Limits
REFRESH-INTERVAL;VALUE=DURATION:PT1H
X-Robots-Tag:noindex
X-PUBLISHED-TTL:PT1H
BEGIN:VTIMEZONE
TZID:UTC
BEGIN:STANDARD
TZOFFSETFROM:+0000
TZOFFSETTO:+0000
TZNAME:UTC
DTSTART:20220101T000000
END:STANDARD
END:VTIMEZONE
BEGIN:VEVENT
DTSTART;VALUE=DATE:20240614
DTEND;VALUE=DATE:20240615
DTSTAMP:20260419T132452
CREATED:20240418T175628Z
LAST-MODIFIED:20240418T175628Z
UID:1383-1718323200-1718409599@nolimitsbynick.com
SUMMARY:Meet the Author: Fresno\, CA
DESCRIPTION:
URL:https://nolimitsbynick.com/event/meet-the-author-fresno-ca/
END:VEVENT
BEGIN:VEVENT
DTSTART;VALUE=DATE:20240609
DTEND;VALUE=DATE:20240613
DTSTAMP:20260419T132452
CREATED:20240226T131614Z
LAST-MODIFIED:20240226T131614Z
UID:1283-1717891200-1718236799@nolimitsbynick.com
SUMMARY:Western Regional District Convention\, Reno NV
DESCRIPTION:Meet International Best Selling Author Nick Haritatos as he tours with his book “No Limits”. For more details contact: nolimitsbynick@gmail.com
URL:https://nolimitsbynick.com/event/western-regional-district-convention-reno-nv/
END:VEVENT
BEGIN:VEVENT
DTSTART;VALUE=DATE:20240608
DTEND;VALUE=DATE:20240609
DTSTAMP:20260419T132452
CREATED:20240418T175536Z
LAST-MODIFIED:20240418T175536Z
UID:1381-1717804800-1717891199@nolimitsbynick.com
SUMMARY:Meet the Author: Sacramento\, CA
DESCRIPTION:
URL:https://nolimitsbynick.com/event/meet-the-author-sacramento-ca/
END:VEVENT
BEGIN:VEVENT
DTSTART;VALUE=DATE:20240607
DTEND;VALUE=DATE:20240608
DTSTAMP:20260419T132452
CREATED:20240418T175436Z
LAST-MODIFIED:20240418T175436Z
UID:1379-1717718400-1717804799@nolimitsbynick.com
SUMMARY:Meet the Author: Oakland\, CA
DESCRIPTION:
URL:https://nolimitsbynick.com/event/meet-the-author-oakland-ca/
END:VEVENT
BEGIN:VEVENT
DTSTART;VALUE=DATE:20240606
DTEND;VALUE=DATE:20240607
DTSTAMP:20260419T132452
CREATED:20240418T175344Z
LAST-MODIFIED:20240418T175344Z
UID:1377-1717632000-1717718399@nolimitsbynick.com
SUMMARY:Meet & Greet: San Francisco\, CA
DESCRIPTION:
URL:https://nolimitsbynick.com/event/meet-greet-san-francisco-ca/
END:VEVENT
BEGIN:VEVENT
DTSTART;VALUE=DATE:20240605
DTEND;VALUE=DATE:20240606
DTSTAMP:20260419T132452
CREATED:20240418T175156Z
LAST-MODIFIED:20240418T175214Z
UID:1375-1717545600-1717631999@nolimitsbynick.com
SUMMARY:Meet the Author: San Jose\, CA
DESCRIPTION:
URL:https://nolimitsbynick.com/event/meet-the-author-san-jose-ca/
END:VEVENT
BEGIN:VEVENT
DTSTART;VALUE=DATE:20240604
DTEND;VALUE=DATE:20240605
DTSTAMP:20260419T132452
CREATED:20240418T175118Z
LAST-MODIFIED:20240418T175118Z
UID:1373-1717459200-1717545599@nolimitsbynick.com
SUMMARY:Meet the Author: Monterey\, CA
DESCRIPTION:
URL:https://nolimitsbynick.com/event/meet-the-author-monterey-ca/
END:VEVENT
BEGIN:VEVENT
DTSTART;VALUE=DATE:20240603
DTEND;VALUE=DATE:20240604
DTSTAMP:20260419T132452
CREATED:20240514T102106Z
LAST-MODIFIED:20240514T102333Z
UID:1399-1717372800-1717459199@nolimitsbynick.com
SUMMARY:Speaking in Ventura\, CA
DESCRIPTION:
URL:https://nolimitsbynick.com/event/speaking-in-ventura-ca/
END:VEVENT
BEGIN:VEVENT
DTSTART;VALUE=DATE:20240603
DTEND;VALUE=DATE:20240604
DTSTAMP:20260419T132452
CREATED:20240418T175012Z
LAST-MODIFIED:20240418T175025Z
UID:1371-1717372800-1717459199@nolimitsbynick.com
SUMMARY:Meet & Greet: Santa Barbara\, CA
DESCRIPTION:
URL:https://nolimitsbynick.com/event/meet-greet-santa-barbara-ca/
END:VEVENT
BEGIN:VEVENT
DTSTART;VALUE=DATE:20240523
DTEND;VALUE=DATE:20240524
DTSTAMP:20260419T132452
CREATED:20240418T174923Z
LAST-MODIFIED:20240418T174923Z
UID:1369-1716422400-1716508799@nolimitsbynick.com
SUMMARY:Guest Speaker: Cincinnati\, OH
DESCRIPTION:
URL:https://nolimitsbynick.com/event/guest-speaker-cincinnati-oh/
END:VEVENT
BEGIN:VEVENT
DTSTART;VALUE=DATE:20240522
DTEND;VALUE=DATE:20240523
DTSTAMP:20260419T132452
CREATED:20240418T174756Z
LAST-MODIFIED:20240418T174756Z
UID:1367-1716336000-1716422399@nolimitsbynick.com
SUMMARY:Open House: Indianapolis\, IN
DESCRIPTION:
URL:https://nolimitsbynick.com/event/open-house-indianapolis-in/
END:VEVENT
BEGIN:VEVENT
DTSTART;VALUE=DATE:20240521
DTEND;VALUE=DATE:20240522
DTSTAMP:20260419T132452
CREATED:20240418T174648Z
LAST-MODIFIED:20240418T174648Z
UID:1365-1716249600-1716335999@nolimitsbynick.com
SUMMARY:Meet & Greet: Peoria\, IL
DESCRIPTION:
URL:https://nolimitsbynick.com/event/meet-greet-peoria-il/
END:VEVENT
BEGIN:VEVENT
DTSTART;VALUE=DATE:20240520
DTEND;VALUE=DATE:20240521
DTSTAMP:20260419T132452
CREATED:20240418T174605Z
LAST-MODIFIED:20240418T174605Z
UID:1363-1716163200-1716249599@nolimitsbynick.com
SUMMARY:Guest Speaker: Madison\, WI
DESCRIPTION:
URL:https://nolimitsbynick.com/event/guest-speaker-madison-wi/
END:VEVENT
BEGIN:VEVENT
DTSTART;TZID=UTC:20240519T130000
DTEND;TZID=UTC:20240519T143000
DTSTAMP:20260419T132452
CREATED:20240418T174259Z
LAST-MODIFIED:20240418T174259Z
UID:1361-1716123600-1716129000@nolimitsbynick.com
SUMMARY:Speaking: Milwaukee\, WI
DESCRIPTION:
URL:https://nolimitsbynick.com/event/speaking-milwaukee-wi/
END:VEVENT
BEGIN:VEVENT
DTSTART;VALUE=DATE:20240518
DTEND;VALUE=DATE:20240519
DTSTAMP:20260419T132452
CREATED:20240418T173550Z
LAST-MODIFIED:20240418T180133Z
UID:1359-1715990400-1716076799@nolimitsbynick.com
SUMMARY:Meet & Greet: Milwaukee\, WI
DESCRIPTION:
URL:https://nolimitsbynick.com/event/meet-greet-milwaukee-wi/
END:VEVENT
BEGIN:VEVENT
DTSTART;TZID=UTC:20240515T000000
DTEND;TZID=UTC:20240517T233000
DTSTAMP:20260419T132452
CREATED:20240418T174456Z
LAST-MODIFIED:20240418T174456Z
UID:1357-1715731200-1715988600@nolimitsbynick.com
SUMMARY:Meet & Greet: Chicago\, IL
DESCRIPTION:
URL:https://nolimitsbynick.com/event/meet-greet-chicago-il/
END:VEVENT
BEGIN:VEVENT
DTSTART;TZID=UTC:20240514T180000
DTEND;TZID=UTC:20240514T193000
DTSTAMP:20260419T132452
CREATED:20240316T041400Z
LAST-MODIFIED:20240325T140148Z
UID:1320-1715709600-1715715000@nolimitsbynick.com
SUMMARY:Guest Speaker: Chicago\, IL
DESCRIPTION:
URL:https://nolimitsbynick.com/event/guest-speaker-chicago-il/
END:VEVENT
BEGIN:VEVENT
DTSTART;VALUE=DATE:20240510
DTEND;VALUE=DATE:20240512
DTSTAMP:20260419T132452
CREATED:20240226T131453Z
LAST-MODIFIED:20240226T131453Z
UID:1281-1715299200-1715471999@nolimitsbynick.com
SUMMARY:Book Tour: London\, United Kingdom
DESCRIPTION:Meet International Best Selling Author Nick Haritatos as he tours with his book “No Limits”. For more details contact: nolimitsbynick@gmail.com
URL:https://nolimitsbynick.com/event/book-tour-london-united-kingdom/
END:VEVENT
BEGIN:VEVENT
DTSTART;VALUE=DATE:20240410
DTEND;VALUE=DATE:20240411
DTSTAMP:20260419T132452
CREATED:20240226T131346Z
LAST-MODIFIED:20240226T131346Z
UID:1279-1712707200-1712793599@nolimitsbynick.com
SUMMARY:Interview with Michelle Marota\, Los Angeles
DESCRIPTION:International Best Selling Author Nick Haritatos discusses his book “No Limits”. For more details contact: nolimitsbynick@gmail.com
URL:https://nolimitsbynick.com/event/interview-with-michelle-marota-los-angeles/
END:VEVENT
BEGIN:VEVENT
DTSTART;VALUE=DATE:20240314
DTEND;VALUE=DATE:20240315
DTSTAMP:20260419T132452
CREATED:20240226T131059Z
LAST-MODIFIED:20240226T131059Z
UID:1275-1710374400-1710460799@nolimitsbynick.com
SUMMARY:Radio Show with Kat Ellis
DESCRIPTION:International Best Selling Author Nick Haritatos discusses his book “No Limits”. For more details contact: nolimitsbynick@gmail.com
URL:https://nolimitsbynick.com/event/radio-show-with-kat-ellis/
END:VEVENT
BEGIN:VEVENT
DTSTART;TZID=UTC:20240229T100000
DTEND;TZID=UTC:20240229T110000
DTSTAMP:20260419T132452
CREATED:20240226T130941Z
LAST-MODIFIED:20240226T161334Z
UID:1273-1709200800-1709204400@nolimitsbynick.com
SUMMARY:11am PST: Live Radio interview with Patrick Snow
DESCRIPTION:International Best Selling Author Nick Haritatos discusses his book “No Limits”. For more details contact: nolimitsbynick@gmail.com \nTopic: Mary West’s Personal Meeting Room \nJoin Zoom Meeting: https://us06web.zoom.us/j/9157372636?pwd=L04xU1k2RVlDU3p5UGNHeUNMT2RGdz09 \nMeeting ID: 915 737 2636 \nPasscode: Celebrate!
URL:https://nolimitsbynick.com/event/live-radio-interview-with-patrick-snow/
END:VEVENT
BEGIN:VEVENT
DTSTART;VALUE=DATE:20240127
DTEND;VALUE=DATE:20240128
DTSTAMP:20260419T132452
CREATED:20240226T130835Z
LAST-MODIFIED:20240226T130835Z
UID:1271-1706313600-1706399999@nolimitsbynick.com
SUMMARY:Long Beach\, CA
DESCRIPTION:Meet International Best Selling Author Nick Haritatos as he tours with his book “No Limits”. For more details contact: nolimitsbynick@gmail.com
URL:https://nolimitsbynick.com/event/long-beach-ca/
END:VEVENT
BEGIN:VEVENT
DTSTART;VALUE=DATE:20240106
DTEND;VALUE=DATE:20240107
DTSTAMP:20260419T132452
CREATED:20231202T163019Z
LAST-MODIFIED:20231202T163019Z
UID:1206-1704499200-1704585599@nolimitsbynick.com
SUMMARY:Book Tour: Tarpon Springs\, FL
DESCRIPTION:Meet International Best Selling Author Nick Haritatos as he tours the East Coast with his book “No Limits”. For more details contact: nolimitsbynick@gmail.com
URL:https://nolimitsbynick.com/event/book-tour-tarpon-springs-fl/
END:VEVENT
BEGIN:VEVENT
DTSTART;VALUE=DATE:20240105
DTEND;VALUE=DATE:20240106
DTSTAMP:20260419T132452
CREATED:20231202T162916Z
LAST-MODIFIED:20231202T162916Z
UID:1204-1704412800-1704499199@nolimitsbynick.com
SUMMARY:Book Tour: Tampa & Tarpon Springs\, FL
DESCRIPTION:Meet International Best Selling Author Nick Haritatos as he tours the East Coast with his book “No Limits”. For more details contact: nolimitsbynick@gmail.com
URL:https://nolimitsbynick.com/event/book-tour-tampa-tarpon-springs-fl-2/
END:VEVENT
BEGIN:VEVENT
DTSTART;VALUE=DATE:20240104
DTEND;VALUE=DATE:20240105
DTSTAMP:20260419T132452
CREATED:20231202T162627Z
LAST-MODIFIED:20231202T162627Z
UID:1200-1704326400-1704412799@nolimitsbynick.com
SUMMARY:Book Tour: Tampa & Tarpon Springs\, FL
DESCRIPTION:Meet International Best Selling Author Nick Haritatos as he tours the East Coast with his book “No Limits”. For more details contact: nolimitsbynick@gmail.com
URL:https://nolimitsbynick.com/event/book-tour-tampa-tarpon-springs-fl/
END:VEVENT
BEGIN:VEVENT
DTSTART;TZID=UTC:20240103T190000
DTEND;TZID=UTC:20240103T200000
DTSTAMP:20260419T132452
CREATED:20231202T162520Z
LAST-MODIFIED:20231202T162812Z
UID:1198-1704308400-1704312000@nolimitsbynick.com
SUMMARY:Book Tour: Orlando\, FL
DESCRIPTION:Sponsored by AHEPA Orlando Chapter #161 – Meet International Best Selling Author Nick Haritatos as he tours the East Coast with his book “No Limits” at the Holy Trinity Greek Orthodox Church located at 1217 Trinity Woods Ln\, Maitland\, FL 32751. Seating is limited to 80 and will commence following the AHEPA Orlando Chapter meeting.  For more details contact: nolimitsbynick@gmail.com
URL:https://nolimitsbynick.com/event/book-tour-orlando-fl/
END:VEVENT
BEGIN:VEVENT
DTSTART;VALUE=DATE:20240102
DTEND;VALUE=DATE:20240103
DTSTAMP:20260419T132452
CREATED:20231202T162149Z
LAST-MODIFIED:20231202T162149Z
UID:1196-1704153600-1704239999@nolimitsbynick.com
SUMMARY:Book Tour: Jacksonville\, FL
DESCRIPTION:Meet International Best Selling Author Nick Haritatos as he tours the East Coast with his book “No Limits”. For more details contact: nolimitsbynick@gmail.com
URL:https://nolimitsbynick.com/event/book-tour-jacksonville-fl/
END:VEVENT
BEGIN:VEVENT
DTSTART;VALUE=DATE:20240101
DTEND;VALUE=DATE:20240102
DTSTAMP:20260419T132452
CREATED:20231202T163048Z
LAST-MODIFIED:20231202T163048Z
UID:1194-1704067200-1704153599@nolimitsbynick.com
SUMMARY:Book Tour: Charleston\, SC
DESCRIPTION:Meet International Best Selling Author Nick Haritatos as he tours the East Coast with his book “No Limits”. For more details contact: nolimitsbynick@gmail.com
URL:https://nolimitsbynick.com/event/book-tour-charleston-sc/
END:VEVENT
BEGIN:VEVENT
DTSTART;VALUE=DATE:20231231
DTEND;VALUE=DATE:20240101
DTSTAMP:20260419T132452
CREATED:20231202T161853Z
LAST-MODIFIED:20231202T161853Z
UID:1191-1703980800-1704067199@nolimitsbynick.com
SUMMARY:Book Tour: Fayetteville\, NC
DESCRIPTION:Meet International Best Selling Author Nick Haritatos as he tours the East Coast with his book “No Limits”. For more details contact: nolimitsbynick@gmail.com
URL:https://nolimitsbynick.com/event/book-tour-fayetteville-nc/
END:VEVENT
BEGIN:VEVENT
DTSTART;VALUE=DATE:20231230
DTEND;VALUE=DATE:20231231
DTSTAMP:20260419T132452
CREATED:20231202T161611Z
LAST-MODIFIED:20231202T161611Z
UID:1189-1703894400-1703980799@nolimitsbynick.com
SUMMARY:Book Tour: Greensborough & Charlotte\, NC
DESCRIPTION:Meet International Best Selling Author Nick Haritatos as he tours the East Coast with his book “No Limits”. For more details contact: nolimitsbynick@gmail.com
URL:https://nolimitsbynick.com/event/book-tour-greensborough-charlotte-nc/
END:VEVENT
END:VCALENDAR